BEGIN:VCALENDAR
VERSION:2.0
PRODID:-//The Gallery Off Vine | Cocktail Lounge, Live Music &amp; Event Venue in Cincinnati - ECPv6.15.20//NONSGML v1.0//EN
CALSCALE:GREGORIAN
METHOD:PUBLISH
X-ORIGINAL-URL:https://galleryoffvine.com
X-WR-CALDESC:Events for The Gallery Off Vine | Cocktail Lounge, Live Music &amp; Event Venue in Cincinnati
REFRESH-INTERVAL;VALUE=DURATION:PT1H
X-Robots-Tag:noindex
X-PUBLISHED-TTL:PT1H
BEGIN:VTIMEZONE
TZID:UTC
BEGIN:STANDARD
TZOFFSETFROM:+0000
TZOFFSETTO:+0000
TZNAME:UTC
DTSTART:20240101T000000
END:STANDARD
END:VTIMEZONE
BEGIN:VEVENT
DTSTART;TZID=UTC:20251108T190000
DTEND;TZID=UTC:20251108T210000
DTSTAMP:20260420T164332
CREATED:20251107T014355Z
LAST-MODIFIED:20251107T014355Z
UID:218-1762628400-1762635600@galleryoffvine.com
SUMMARY:Paint & Sip
DESCRIPTION:
URL:https://galleryoffvine.com/event/paint-sip/
LOCATION:The Gallery off Vine\, Cincinnati\, Ohio\, United States
END:VEVENT
BEGIN:VEVENT
DTSTART;TZID=UTC:20250627T060000
DTEND;TZID=UTC:20250628T010000
DTSTAMP:20260420T164332
CREATED:20250620T134325Z
LAST-MODIFIED:20250620T134325Z
UID:159-1751004000-1751072400@galleryoffvine.com
SUMMARY:Caribbean Final Fridays
DESCRIPTION:
URL:https://galleryoffvine.com/event/caribbean-final-fridays/
LOCATION:The Gallery off Vine\, Cincinnati\, Ohio\, United States
END:VEVENT
BEGIN:VEVENT
DTSTART;TZID=UTC:20250619T080000
DTEND;TZID=UTC:20250620T000000
DTSTAMP:20260420T164332
CREATED:20250620T134556Z
LAST-MODIFIED:20250620T134636Z
UID:161-1750320000-1750377600@galleryoffvine.com
SUMMARY:Wordplay Thursday
DESCRIPTION:Come Check out some of Cincinnati’s best local poets Hosted by The Def Poets Society.
URL:https://galleryoffvine.com/event/wordplay-thursday/
LOCATION:The Gallery off Vine\, Cincinnati\, Ohio\, United States
CATEGORIES:Poetry
ATTACH;FMTTYPE=image/jpeg:https://galleryoffvine.com/wp-content/uploads/2025/06/Wordplay-Thursday-DPS-Flyer.jpeg
END:VEVENT
BEGIN:VEVENT
DTSTART;TZID=UTC:20250404T180000
DTEND;TZID=UTC:20250404T220000
DTSTAMP:20260420T164332
CREATED:20250311T045433Z
LAST-MODIFIED:20250313T024027Z
UID:135-1743789600-1743804000@galleryoffvine.com
SUMMARY:Grand Opening
DESCRIPTION:Welcome to The Gallery Off Vine – Cincinnati’s Best-Kept Secret\n\nSome places you visit. Others\, you experience.\n\nWe welcome you to an exclusive\, hidden cocktail lounge where art meets indulgence\, music sets the mood\, and every drink is a masterpiece.\n\nTucked away in Cincinnati\, our lounge is more than just a place to grab a drink—it’s a curated escape. From handcrafted signature cocktails to live performances\, every detail is designed for those who seek something more than the ordinary.\n\nThe Grand Opening Night Is Coming Soon!Join us for an unforgettable night filled with:Expertly crafted cocktails that redefine mixology.\nLive music performances that set the perfect vibe.An intimate\, upscale atmosphere that blends luxury with creativity.\nLimited VIP Access & Guest List Now Open!\nBe one of the first to experience Cincinnati’s most exclusive new lounge.\nTag a friend you’d bring for a cocktail & follow us on social media for more updates!\nAnd tell us what’s your go-to cocktail order? Drop it in the comments below!\nLock in. RSVP Today & Stay Updated: Exact Location will be disclosed soon
URL:https://galleryoffvine.com/event/grand-opening/
LOCATION:The Gallery off Vine\, Cincinnati\, Ohio\, United States
ATTACH;FMTTYPE=image/jpeg:https://galleryoffvine.com/wp-content/uploads/2025/03/a-minimalistic-flyer-for-the-grand-openi_SCJE_53_S9KLqU6P3gMm2g_bG42mytNRj2J4WaEiHk65w.jpeg
END:VEVENT
END:VCALENDAR