BEGIN:VCALENDAR
VERSION:2.0
PRODID:-//The Gallery Off Vine | Cocktail Lounge, Live Music &amp; Event Venue in Cincinnati - ECPv6.15.20//NONSGML v1.0//EN
CALSCALE:GREGORIAN
METHOD:PUBLISH
X-ORIGINAL-URL:https://galleryoffvine.com
X-WR-CALDESC:Events for The Gallery Off Vine | Cocktail Lounge, Live Music &amp; Event Venue in Cincinnati
REFRESH-INTERVAL;VALUE=DURATION:PT1H
X-Robots-Tag:noindex
X-PUBLISHED-TTL:PT1H
BEGIN:VTIMEZONE
TZID:UTC
BEGIN:STANDARD
TZOFFSETFROM:+0000
TZOFFSETTO:+0000
TZNAME:UTC
DTSTART:20240101T000000
END:STANDARD
END:VTIMEZONE
BEGIN:VEVENT
DTSTART;TZID=UTC:20250619T080000
DTEND;TZID=UTC:20250620T000000
DTSTAMP:20260423T021659
CREATED:20250620T134556Z
LAST-MODIFIED:20250620T134636Z
UID:161-1750320000-1750377600@galleryoffvine.com
SUMMARY:Wordplay Thursday
DESCRIPTION:Come Check out some of Cincinnati’s best local poets Hosted by The Def Poets Society.
URL:https://galleryoffvine.com/event/wordplay-thursday/
LOCATION:The Gallery off Vine\, Cincinnati\, Ohio\, United States
CATEGORIES:Poetry
ATTACH;FMTTYPE=image/jpeg:https://galleryoffvine.com/wp-content/uploads/2025/06/Wordplay-Thursday-DPS-Flyer.jpeg
END:VEVENT
END:VCALENDAR